BEGIN:VCALENDAR
VERSION:2.0
PRODID:-//RIGHTHERE//CALENDARIZE IT V3.2//EN
BEGIN:VEVENT
UID:895-events@www.fslprep.co.uk
DTSTART;VALUE=DATE:20260525
DTEND;VALUE=DATE:20260525
DTSTAMP:20250807T104056Z
SUMMARY:Staff Development Day (May 2026)
URL:https://www.fslprep.co.uk/events/staff-development-day-may-2026-2/
END:VEVENT
END:VCALENDAR