BEGIN:VCALENDAR
VERSION:2.0
PRODID:-//RIGHTHERE//CALENDARIZE IT V3.2//EN
BEGIN:VEVENT
UID:869-events@www.fslprep.co.uk
DTSTART;VALUE=DATE:20251219
DTEND;VALUE=DATE:20251219
DTSTAMP:20250807T102609Z
SUMMARY:Autumn Term Ends
URL:https://www.fslprep.co.uk/events/end-of-term/
END:VEVENT
END:VCALENDAR